BEGIN:VCALENDAR
VERSION:2.0
PRODID:-//ChamberMaster//Event Calendar 2.0//EN
METHOD:PUBLISH
X-PUBLISHED-TTL:P3D
REFRESH-INTERVAL:P3D
CALSCALE:GREGORIAN
BEGIN:VEVENT
DTSTART:20260620T140000Z
DTEND:20260816T210000Z
X-MICROSOFT-CDO-ALLDAYEVENT:FALSE
SUMMARY:Cape May City Craft Show's
DESCRIPTION:June Show: June 20th & 21st July Show: July 18th & 19th August Show: August 15th & 16th
X-ALT-DESC;FMTTYPE=text/html:June Show: June 20th &amp\; 21st July Show: July 18th &amp\; 19th August Show: August 15th &amp\; 16th
LOCATION:All shows are located on the promenade outside of Cape May Convention Hall
UID:e.1667.192491
SEQUENCE:3
DTSTAMP:20260420T135046Z
URL:https://community.capemaycountychamber.com/events/details/cape-may-city-craft-show-s-192491
END:VEVENT

END:VCALENDAR
