BEGIN:VCALENDAR
VERSION:2.0
PRODID:-//ChamberMaster//Event Calendar 2.0//EN
METHOD:PUBLISH
X-PUBLISHED-TTL:P3D
REFRESH-INTERVAL:P3D
CALSCALE:GREGORIAN
BEGIN:VEVENT
DTSTART:20260522T223000Z
DTEND:20260523T000000Z
X-MICROSOFT-CDO-ALLDAYEVENT:FALSE
SUMMARY:Hello Summer Concert - AM GOLD
DESCRIPTION:Say Hello to Summer 2026 with a FREE Concert featuring AM GOLD
X-ALT-DESC;FMTTYPE=text/html:Say Hello to Summer 2026 with a FREE Concert featuring AM GOLD
LOCATION:CAPE MAY CONVENTION HALL BEACH 714 Beach Avenue Cape May NJ 08204
UID:e.1667.192487
SEQUENCE:3
DTSTAMP:20260420T140013Z
URL:https://community.capemaycountychamber.com/events/details/hello-summer-concert-am-gold-192487
END:VEVENT

END:VCALENDAR
