BEGIN:VCALENDAR
VERSION:2.0
PRODID:-//ChamberMaster//Event Calendar 2.0//EN
METHOD:PUBLISH
X-PUBLISHED-TTL:P3D
REFRESH-INTERVAL:P3D
CALSCALE:GREGORIAN
BEGIN:VEVENT
DTSTART:20260906T230000Z
DTEND:20260907T023000Z
X-MICROSOFT-CDO-ALLDAYEVENT:FALSE
SUMMARY:Summer Send Off
DESCRIPTION:FREE CONCERT featuring: FAT MEZZ followed by: THE ENDLESS SUMMER Live Music 7-9PM Movie 9:15PM BRING YOUR BEACH CHAIR!
X-ALT-DESC;FMTTYPE=text/html:FREE CONCERT featuring: FAT MEZZ followed by: THE ENDLESS SUMMER Live Music 7-9PM Movie 9:15PM BRING YOUR BEACH CHAIR!
LOCATION:CAPE MAY CONVENTION HALL BEACH 714 Beach Avenue Cape May NJ 08204
UID:e.1667.192488
SEQUENCE:3
DTSTAMP:20260420T135340Z
URL:https://community.capemaycountychamber.com/events/details/summer-send-off-09-06-2026-192488
END:VEVENT

END:VCALENDAR
